BEGIN:VCALENDAR
VERSION:2.0
PRODID:-//Biker Bum - ECPv6.15.20//NONSGML v1.0//EN
CALSCALE:GREGORIAN
METHOD:PUBLISH
X-WR-CALNAME:Biker Bum
X-ORIGINAL-URL:https://bikerbumva.com
X-WR-CALDESC:Events for Biker Bum
REFRESH-INTERVAL;VALUE=DURATION:PT1H
X-Robots-Tag:noindex
X-PUBLISHED-TTL:PT1H
BEGIN:VTIMEZONE
TZID:America/Halifax
BEGIN:DAYLIGHT
TZOFFSETFROM:-0400
TZOFFSETTO:-0300
TZNAME:ADT
DTSTART:20240310T060000
END:DAYLIGHT
BEGIN:STANDARD
TZOFFSETFROM:-0300
TZOFFSETTO:-0400
TZNAME:AST
DTSTART:20241103T050000
END:STANDARD
BEGIN:DAYLIGHT
TZOFFSETFROM:-0400
TZOFFSETTO:-0300
TZNAME:ADT
DTSTART:20250309T060000
END:DAYLIGHT
BEGIN:STANDARD
TZOFFSETFROM:-0300
TZOFFSETTO:-0400
TZNAME:AST
DTSTART:20251102T050000
END:STANDARD
BEGIN:DAYLIGHT
TZOFFSETFROM:-0400
TZOFFSETTO:-0300
TZNAME:ADT
DTSTART:20260308T060000
END:DAYLIGHT
BEGIN:STANDARD
TZOFFSETFROM:-0300
TZOFFSETTO:-0400
TZNAME:AST
DTSTART:20261101T050000
END:STANDARD
BEGIN:DAYLIGHT
TZOFFSETFROM:-0400
TZOFFSETTO:-0300
TZNAME:ADT
DTSTART:20270314T060000
END:DAYLIGHT
BEGIN:STANDARD
TZOFFSETFROM:-0300
TZOFFSETTO:-0400
TZNAME:AST
DTSTART:20271107T050000
END:STANDARD
END:VTIMEZONE
BEGIN:VEVENT
DTSTART;TZID=America/Halifax:20260219T180000
DTEND;TZID=America/Halifax:20260219T220000
DTSTAMP:20260420T052830
CREATED:20250806T225931Z
LAST-MODIFIED:20250814T141528Z
UID:10001036-1771524000-1771538400@bikerbumva.com
SUMMARY:US Military Vets MC Bike Nite
DESCRIPTION:
URL:https://bikerbumva.com/event/military-veterans-mc-united-states-bike-nite-2/2026-02-19/
LOCATION:Buckets Bar & Grill\, 228 N Battlefield Blvd\, Chesapeake\, VA
END:VEVENT
BEGIN:VEVENT
DTSTART;TZID=America/Halifax:20260217T190000
DTEND;TZID=America/Halifax:20260217T210000
DTSTAMP:20260420T052830
CREATED:20250806T223319Z
LAST-MODIFIED:20250813T141018Z
UID:10001532-1771354800-1771362000@bikerbumva.com
SUMMARY:Boneshakers SC Bike Nite
DESCRIPTION:
URL:https://bikerbumva.com/event/boneshakers-sc-bike-nite/2026-02-17/
LOCATION:615 Bar & Grill\, 1615 General Booth Blvd\, Virginia Beach\, VA
END:VEVENT
BEGIN:VEVENT
DTSTART;TZID=America/Halifax:20260213T200000
DTEND;TZID=America/Halifax:20260214T000000
DTSTAMP:20260420T052830
CREATED:20250813T140402Z
LAST-MODIFIED:20250814T140004Z
UID:10002026-1771012800-1771027200@bikerbumva.com
SUMMARY:Kingz of the South Bike Nite
DESCRIPTION:
URL:https://bikerbumva.com/event/kingz-of-the-south-bike-nite-3/2026-02-13/
LOCATION:The Kingz Palace Clubhouse\, 834C Widgeon Rd\, Norfolk\, VA
END:VEVENT
BEGIN:VEVENT
DTSTART;TZID=America/Halifax:20260211T180000
DTEND;TZID=America/Halifax:20260211T230000
DTSTAMP:20260420T052830
CREATED:20250806T222652Z
LAST-MODIFIED:20250814T140226Z
UID:10000196-1770832800-1770850800@bikerbumva.com
SUMMARY:Real Reason Riders MC Bike Nite
DESCRIPTION:
URL:https://bikerbumva.com/event/real-reason-riders-mc-bike-nite/2026-02-11/
LOCATION:Real Reason Clubhouse\, 1286 Credle Rd\, Virginia Beach\, VA
END:VEVENT
BEGIN:VEVENT
DTSTART;TZID=America/Halifax:20260210T200000
DTEND;TZID=America/Halifax:20260211T000000
DTSTAMP:20260420T052830
CREATED:20250813T141959Z
LAST-MODIFIED:20250813T142054Z
UID:10001832-1770753600-1770768000@bikerbumva.com
SUMMARY:Choppers MC Two Wheel Tuesday Bike Nite
DESCRIPTION:
URL:https://bikerbumva.com/event/choppers-mc-two-wheel-tuesday-bike-nite-2-2-2/2026-02-10/
LOCATION:The Chop House\, 3900 Bainbridge Blvd\, Chesapeake\, VA
END:VEVENT
BEGIN:VEVENT
DTSTART;TZID=America/Halifax:20260128T180000
DTEND;TZID=America/Halifax:20260128T230000
DTSTAMP:20260420T052830
CREATED:20250806T224309Z
LAST-MODIFIED:20250814T140321Z
UID:10000136-1769623200-1769641200@bikerbumva.com
SUMMARY:Real Reason Riders MC Bike Nite
DESCRIPTION:
URL:https://bikerbumva.com/event/real-reason-riders-mc-bike-nite-2/2026-01-28/
LOCATION:Real Reason Clubhouse\, 1286 Credle Rd\, Virginia Beach\, VA
END:VEVENT
BEGIN:VEVENT
DTSTART;TZID=America/Halifax:20260127T200000
DTEND;TZID=America/Halifax:20260128T000000
DTSTAMP:20260420T052830
CREATED:20250806T230522Z
LAST-MODIFIED:20250813T142102Z
UID:10001290-1769544000-1769558400@bikerbumva.com
SUMMARY:Choppers MC Two Wheel Tuesday Bike Nite
DESCRIPTION:
URL:https://bikerbumva.com/event/choppers-mc-two-wheel-tuesday-bike-nite-3/2026-01-27/
LOCATION:The Chop House\, 3900 Bainbridge Blvd\, Chesapeake\, VA
END:VEVENT
BEGIN:VEVENT
DTSTART;TZID=America/Halifax:20260123T200000
DTEND;TZID=America/Halifax:20260124T000000
DTSTAMP:20260420T052830
CREATED:20250806T224555Z
LAST-MODIFIED:20250814T135954Z
UID:10001965-1769198400-1769212800@bikerbumva.com
SUMMARY:Kingz of the South Bike Nite
DESCRIPTION:
URL:https://bikerbumva.com/event/kingz-of-the-south-bike-nite-2/2026-01-23/
LOCATION:The Kingz Palace Clubhouse\, 834C Widgeon Rd\, Norfolk\, VA
END:VEVENT
BEGIN:VEVENT
DTSTART;TZID=America/Halifax:20260120T190000
DTEND;TZID=America/Halifax:20260120T210000
DTSTAMP:20260420T052830
CREATED:20250806T223319Z
LAST-MODIFIED:20250813T141018Z
UID:10001531-1768935600-1768942800@bikerbumva.com
SUMMARY:Boneshakers SC Bike Nite
DESCRIPTION:
URL:https://bikerbumva.com/event/boneshakers-sc-bike-nite/2026-01-20/
LOCATION:615 Bar & Grill\, 1615 General Booth Blvd\, Virginia Beach\, VA
END:VEVENT
BEGIN:VEVENT
DTSTART;TZID=America/Halifax:20260115T180000
DTEND;TZID=America/Halifax:20260115T220000
DTSTAMP:20260420T052830
CREATED:20250806T225931Z
LAST-MODIFIED:20250814T141528Z
UID:10001031-1768500000-1768514400@bikerbumva.com
SUMMARY:US Military Vets MC Bike Nite
DESCRIPTION:
URL:https://bikerbumva.com/event/military-veterans-mc-united-states-bike-nite-2/2026-01-15/
LOCATION:Buckets Bar & Grill\, 228 N Battlefield Blvd\, Chesapeake\, VA
END:VEVENT
BEGIN:VEVENT
DTSTART;TZID=America/Halifax:20260114T180000
DTEND;TZID=America/Halifax:20260114T230000
DTSTAMP:20260420T052830
CREATED:20250806T222652Z
LAST-MODIFIED:20250814T140226Z
UID:10000195-1768413600-1768431600@bikerbumva.com
SUMMARY:Real Reason Riders MC Bike Nite
DESCRIPTION:
URL:https://bikerbumva.com/event/real-reason-riders-mc-bike-nite/2026-01-14/
LOCATION:Real Reason Clubhouse\, 1286 Credle Rd\, Virginia Beach\, VA
END:VEVENT
BEGIN:VEVENT
DTSTART;TZID=America/Halifax:20260113T200000
DTEND;TZID=America/Halifax:20260114T000000
DTSTAMP:20260420T052830
CREATED:20250813T141959Z
LAST-MODIFIED:20250813T142054Z
UID:10001831-1768334400-1768348800@bikerbumva.com
SUMMARY:Choppers MC Two Wheel Tuesday Bike Nite
DESCRIPTION:
URL:https://bikerbumva.com/event/choppers-mc-two-wheel-tuesday-bike-nite-2-2-2/2026-01-13/
LOCATION:The Chop House\, 3900 Bainbridge Blvd\, Chesapeake\, VA
END:VEVENT
BEGIN:VEVENT
DTSTART;TZID=America/Halifax:20260109T200000
DTEND;TZID=America/Halifax:20260110T000000
DTSTAMP:20260420T052830
CREATED:20250813T140402Z
LAST-MODIFIED:20250814T140004Z
UID:10002025-1767988800-1768003200@bikerbumva.com
SUMMARY:Kingz of the South Bike Nite
DESCRIPTION:
URL:https://bikerbumva.com/event/kingz-of-the-south-bike-nite-3/2026-01-09/
LOCATION:The Kingz Palace Clubhouse\, 834C Widgeon Rd\, Norfolk\, VA
END:VEVENT
BEGIN:VEVENT
DTSTART;TZID=America/Halifax:20251226T200000
DTEND;TZID=America/Halifax:20251227T000000
DTSTAMP:20260420T052830
CREATED:20250806T224555Z
LAST-MODIFIED:20250814T135954Z
UID:10001964-1766779200-1766793600@bikerbumva.com
SUMMARY:Kingz of the South Bike Nite
DESCRIPTION:
URL:https://bikerbumva.com/event/kingz-of-the-south-bike-nite-2/2025-12-26/
LOCATION:The Kingz Palace Clubhouse\, 834C Widgeon Rd\, Norfolk\, VA
END:VEVENT
BEGIN:VEVENT
DTSTART;TZID=America/Halifax:20251224T180000
DTEND;TZID=America/Halifax:20251224T230000
DTSTAMP:20260420T052830
CREATED:20250806T224309Z
LAST-MODIFIED:20250814T140321Z
UID:10000135-1766599200-1766617200@bikerbumva.com
SUMMARY:Real Reason Riders MC Bike Nite
DESCRIPTION:
URL:https://bikerbumva.com/event/real-reason-riders-mc-bike-nite-2/2025-12-24/
LOCATION:Real Reason Clubhouse\, 1286 Credle Rd\, Virginia Beach\, VA
END:VEVENT
BEGIN:VEVENT
DTSTART;TZID=America/Halifax:20251223T200000
DTEND;TZID=America/Halifax:20251224T000000
DTSTAMP:20260420T052830
CREATED:20250806T230522Z
LAST-MODIFIED:20250813T142102Z
UID:10001285-1766520000-1766534400@bikerbumva.com
SUMMARY:Choppers MC Two Wheel Tuesday Bike Nite
DESCRIPTION:
URL:https://bikerbumva.com/event/choppers-mc-two-wheel-tuesday-bike-nite-3/2025-12-23/
LOCATION:The Chop House\, 3900 Bainbridge Blvd\, Chesapeake\, VA
END:VEVENT
BEGIN:VEVENT
DTSTART;TZID=America/Halifax:20251218T180000
DTEND;TZID=America/Halifax:20251218T220000
DTSTAMP:20260420T052830
CREATED:20250806T225931Z
LAST-MODIFIED:20250814T141528Z
UID:10001027-1766080800-1766095200@bikerbumva.com
SUMMARY:US Military Vets MC Bike Nite
DESCRIPTION:
URL:https://bikerbumva.com/event/military-veterans-mc-united-states-bike-nite-2/2025-12-18/
LOCATION:Buckets Bar & Grill\, 228 N Battlefield Blvd\, Chesapeake\, VA
END:VEVENT
BEGIN:VEVENT
DTSTART;TZID=America/Halifax:20251216T190000
DTEND;TZID=America/Halifax:20251216T210000
DTSTAMP:20260420T052830
CREATED:20250806T223319Z
LAST-MODIFIED:20250813T141018Z
UID:10001530-1765911600-1765918800@bikerbumva.com
SUMMARY:Boneshakers SC Bike Nite
DESCRIPTION:
URL:https://bikerbumva.com/event/boneshakers-sc-bike-nite/2025-12-16/
LOCATION:615 Bar & Grill\, 1615 General Booth Blvd\, Virginia Beach\, VA
END:VEVENT
BEGIN:VEVENT
DTSTART;TZID=America/Halifax:20251212T200000
DTEND;TZID=America/Halifax:20251213T000000
DTSTAMP:20260420T052830
CREATED:20250813T140402Z
LAST-MODIFIED:20250814T140004Z
UID:10002024-1765569600-1765584000@bikerbumva.com
SUMMARY:Kingz of the South Bike Nite
DESCRIPTION:
URL:https://bikerbumva.com/event/kingz-of-the-south-bike-nite-3/2025-12-12/
LOCATION:The Kingz Palace Clubhouse\, 834C Widgeon Rd\, Norfolk\, VA
END:VEVENT
BEGIN:VEVENT
DTSTART;TZID=America/Halifax:20251210T180000
DTEND;TZID=America/Halifax:20251210T230000
DTSTAMP:20260420T052830
CREATED:20250806T222652Z
LAST-MODIFIED:20250814T140226Z
UID:10000194-1765389600-1765407600@bikerbumva.com
SUMMARY:Real Reason Riders MC Bike Nite
DESCRIPTION:
URL:https://bikerbumva.com/event/real-reason-riders-mc-bike-nite/2025-12-10/
LOCATION:Real Reason Clubhouse\, 1286 Credle Rd\, Virginia Beach\, VA
END:VEVENT
BEGIN:VEVENT
DTSTART;TZID=America/Halifax:20251209T200000
DTEND;TZID=America/Halifax:20251210T000000
DTSTAMP:20260420T052830
CREATED:20250813T141959Z
LAST-MODIFIED:20250813T142054Z
UID:10001830-1765310400-1765324800@bikerbumva.com
SUMMARY:Choppers MC Two Wheel Tuesday Bike Nite
DESCRIPTION:
URL:https://bikerbumva.com/event/choppers-mc-two-wheel-tuesday-bike-nite-2-2-2/2025-12-09/
LOCATION:The Chop House\, 3900 Bainbridge Blvd\, Chesapeake\, VA
END:VEVENT
BEGIN:VEVENT
DTSTART;TZID=America/Halifax:20251208T190000
DTEND;TZID=America/Halifax:20251208T220000
DTSTAMP:20260420T052830
CREATED:20250813T140843Z
LAST-MODIFIED:20250827T135621Z
UID:10001891-1765220400-1765231200@bikerbumva.com
SUMMARY:Military Veterans MC United States Bike Nite
DESCRIPTION:
URL:https://bikerbumva.com/event/military-veterans-mc-united-states-bike-nite-3/2025-12-08/
LOCATION:Buckets Bar & Grill\, 228 N Battlefield Blvd\, Chesapeake\, VA
END:VEVENT
BEGIN:VEVENT
DTSTART;VALUE=DATE:20251206
DTEND;VALUE=DATE:20251207
DTSTAMP:20260420T052830
CREATED:20250813T221604Z
LAST-MODIFIED:20250813T221604Z
UID:10001959-1764979200-1765065599@bikerbumva.com
SUMMARY:Lady Unity Rydaz 757
DESCRIPTION:Dec 6 \nInfo to follow
URL:https://bikerbumva.com/event/lady-unity-rydaz-757/
END:VEVENT
BEGIN:VEVENT
DTSTART;TZID=America/Halifax:20251128T200000
DTEND;TZID=America/Halifax:20251129T000000
DTSTAMP:20260420T052830
CREATED:20250806T224555Z
LAST-MODIFIED:20250814T135954Z
UID:10001963-1764360000-1764374400@bikerbumva.com
SUMMARY:Kingz of the South Bike Nite
DESCRIPTION:
URL:https://bikerbumva.com/event/kingz-of-the-south-bike-nite-2/2025-11-28/
LOCATION:The Kingz Palace Clubhouse\, 834C Widgeon Rd\, Norfolk\, VA
END:VEVENT
BEGIN:VEVENT
DTSTART;TZID=America/Halifax:20251126T180000
DTEND;TZID=America/Halifax:20251126T230000
DTSTAMP:20260420T052830
CREATED:20250806T224309Z
LAST-MODIFIED:20250814T140321Z
UID:10000134-1764180000-1764198000@bikerbumva.com
SUMMARY:Real Reason Riders MC Bike Nite
DESCRIPTION:
URL:https://bikerbumva.com/event/real-reason-riders-mc-bike-nite-2/2025-11-26/
LOCATION:Real Reason Clubhouse\, 1286 Credle Rd\, Virginia Beach\, VA
END:VEVENT
BEGIN:VEVENT
DTSTART;TZID=America/Halifax:20251125T200000
DTEND;TZID=America/Halifax:20251126T000000
DTSTAMP:20260420T052830
CREATED:20250806T230522Z
LAST-MODIFIED:20250813T142102Z
UID:10001281-1764100800-1764115200@bikerbumva.com
SUMMARY:Choppers MC Two Wheel Tuesday Bike Nite
DESCRIPTION:
URL:https://bikerbumva.com/event/choppers-mc-two-wheel-tuesday-bike-nite-3/2025-11-25/
LOCATION:The Chop House\, 3900 Bainbridge Blvd\, Chesapeake\, VA
END:VEVENT
BEGIN:VEVENT
DTSTART;TZID=America/Halifax:20251120T180000
DTEND;TZID=America/Halifax:20251120T220000
DTSTAMP:20260420T052830
CREATED:20250806T225931Z
LAST-MODIFIED:20250814T141528Z
UID:10001023-1763661600-1763676000@bikerbumva.com
SUMMARY:US Military Vets MC Bike Nite
DESCRIPTION:
URL:https://bikerbumva.com/event/military-veterans-mc-united-states-bike-nite-2/2025-11-20/
LOCATION:Buckets Bar & Grill\, 228 N Battlefield Blvd\, Chesapeake\, VA
END:VEVENT
BEGIN:VEVENT
DTSTART;TZID=America/Halifax:20251118T190000
DTEND;TZID=America/Halifax:20251118T210000
DTSTAMP:20260420T052830
CREATED:20250806T223319Z
LAST-MODIFIED:20250813T141018Z
UID:10001529-1763492400-1763499600@bikerbumva.com
SUMMARY:Boneshakers SC Bike Nite
DESCRIPTION:
URL:https://bikerbumva.com/event/boneshakers-sc-bike-nite/2025-11-18/
LOCATION:615 Bar & Grill\, 1615 General Booth Blvd\, Virginia Beach\, VA
END:VEVENT
BEGIN:VEVENT
DTSTART;TZID=America/Halifax:20251114T200000
DTEND;TZID=America/Halifax:20251115T000000
DTSTAMP:20260420T052830
CREATED:20250813T140402Z
LAST-MODIFIED:20250814T140004Z
UID:10002023-1763150400-1763164800@bikerbumva.com
SUMMARY:Kingz of the South Bike Nite
DESCRIPTION:
URL:https://bikerbumva.com/event/kingz-of-the-south-bike-nite-3/2025-11-14/
LOCATION:The Kingz Palace Clubhouse\, 834C Widgeon Rd\, Norfolk\, VA
END:VEVENT
BEGIN:VEVENT
DTSTART;TZID=America/Halifax:20251112T180000
DTEND;TZID=America/Halifax:20251112T230000
DTSTAMP:20260420T052830
CREATED:20250806T222652Z
LAST-MODIFIED:20250814T140226Z
UID:10000193-1762970400-1762988400@bikerbumva.com
SUMMARY:Real Reason Riders MC Bike Nite
DESCRIPTION:
URL:https://bikerbumva.com/event/real-reason-riders-mc-bike-nite/2025-11-12/
LOCATION:Real Reason Clubhouse\, 1286 Credle Rd\, Virginia Beach\, VA
END:VEVENT
END:VCALENDAR